Package: segmentSeq Version: 2.40.0 Command: /Library/Frameworks/R.framework/Resources/bin/R CMD check --install=check:segmentSeq.install-out.txt --library=/Library/Frameworks/R.framework/Resources/library --no-vignettes --timings segmentSeq_2.40.0.tar.gz StartedAt: 2025-02-05 09:50:04 -0500 (Wed, 05 Feb 2025) EndedAt: 2025-02-05 09:57:23 -0500 (Wed, 05 Feb 2025) EllapsedTime: 438.8 seconds RetCode: 0 Status: OK CheckDir: segmentSeq.Rcheck Warnings: 0