Package: segmentSeq Version: 2.40.0 Command: /Library/Frameworks/R.framework/Resources/bin/R CMD build --keep-empty-dirs --no-resave-data segmentSeq StartedAt: 2025-02-03 22:15:17 -0500 (Mon, 03 Feb 2025) EndedAt: 2025-02-03 22:55:17 -0500 (Mon, 03 Feb 2025) EllapsedTime: 2400.3 seconds RetCode: None Status: TIMEOUT PackageFile: None PackageFileSize: NA