Package: segmentSeq Version: 2.40.0 Command: /Library/Frameworks/R.framework/Resources/bin/R CMD INSTALL segmentSeq StartedAt: 2025-02-03 15:49:19 -0500 (Mon, 03 Feb 2025) EndedAt: 2025-02-03 15:50:41 -0500 (Mon, 03 Feb 2025) EllapsedTime: 82.5 seconds RetCode: 0 Status: OK