Package: segmentSeq
Version: 2.39.0
Command: F:\biocbuild\bbs-3.20-bioc\R\bin\R.exe CMD check --no-multiarch --install=check:segmentSeq.install-out.txt --library=F:\biocbuild\bbs-3.20-bioc\R\library --no-vignettes --timings segmentSeq_2.39.0.tar.gz
StartedAt: 2024-10-26 06:06:19 -0400 (Sat, 26 Oct 2024)
EndedAt: 2024-10-26 06:13:19 -0400 (Sat, 26 Oct 2024)
EllapsedTime: 420.3 seconds
RetCode: 0
Status: OK
CheckDir: segmentSeq.Rcheck
Warnings: 0