Package: segmenter Version: 1.12.0 Command: /home/biocbuild/bbs-3.20-bioc/R/bin/R CMD INSTALL segmenter StartedAt: 2025-02-03 15:52:29 -0500 (Mon, 03 Feb 2025) EndedAt: 2025-02-03 15:53:17 -0500 (Mon, 03 Feb 2025) EllapsedTime: 47.3 seconds RetCode: 0 Status: OK