Package: segmenter
Version: 1.12.0
Command: chmod a+r segmenter -R && F:\biocbuild\bbs-3.20-bioc\R\bin\R.exe CMD build --keep-empty-dirs --no-resave-data segmenter
StartedAt: 2025-02-17 21:50:14 -0500 (Mon, 17 Feb 2025)
EndedAt: 2025-02-17 21:58:01 -0500 (Mon, 17 Feb 2025)
EllapsedTime: 467.6 seconds
RetCode: 0
Status: OK
PackageFile: segmenter_1.12.0.tar.gz
PackageFileSize: 3.888 <A href="http://en.wikipedia.org/wiki/MiB" target="_blank">MiB</A>