Package: segmenter
Version: 1.12.0
Command: /home/biocbuild/R/R/bin/R CMD build --keep-empty-dirs --no-resave-data segmenter
StartedAt: 2025-02-18 02:46:13 -0000 (Tue, 18 Feb 2025)
EndedAt: 2025-02-18 02:58:28 -0000 (Tue, 18 Feb 2025)
EllapsedTime: 734.9 seconds
RetCode: 0
Status: OK
PackageFile: segmenter_1.12.0.tar.gz
PackageFileSize: 3.909 <A href="http://en.wikipedia.org/wiki/MiB" target="_blank">MiB</A>