Package: semisup
Version: 1.30.0
Command: /Library/Frameworks/R.framework/Resources/bin/R CMD check --install=check:semisup.install-out.txt --library=/Library/Frameworks/R.framework/Resources/library --no-vignettes --timings semisup_1.30.0.tar.gz
StartedAt: 2024-11-20 02:33:41 -0500 (Wed, 20 Nov 2024)
EndedAt: 2024-11-20 02:38:14 -0500 (Wed, 20 Nov 2024)
EllapsedTime: 272.5 seconds
RetCode: 0
Status: OK
CheckDir: semisup.Rcheck
Warnings: 0