Package: semisup Version: 1.30.0 Command: /home/biocbuild/bbs-3.20-bioc/R/bin/R CMD build --keep-empty-dirs --no-resave-data --md5 semisup StartedAt: 2025-02-03 19:17:25 -0500 (Mon, 03 Feb 2025) EndedAt: 2025-02-03 19:17:34 -0500 (Mon, 03 Feb 2025) EllapsedTime: 9.0 seconds RetCode: 0 Status: OK PackageFile: semisup_1.30.0.tar.gz PackageFileSize: 307.5 KiB