Package: semisup
Version: 1.29.0
Command: F:\biocbuild\bbs-3.20-bioc\R\bin\R.exe CMD check --no-multiarch --install=check:semisup.install-out.txt --library=F:\biocbuild\bbs-3.20-bioc\R\library --no-vignettes --timings semisup_1.29.0.tar.gz
StartedAt: 2024-06-10 09:29:16 -0400 (Mon, 10 Jun 2024)
EndedAt: 2024-06-10 09:32:29 -0400 (Mon, 10 Jun 2024)
EllapsedTime: 192.8 seconds
RetCode: 0
Status: OK
CheckDir: semisup.Rcheck
Warnings: 0