Package: semisup Version: 1.30.0 Command: /home/biocbuild/R/R/bin/R CMD build --keep-empty-dirs --no-resave-data semisup StartedAt: 2025-02-04 02:55:21 -0000 (Tue, 04 Feb 2025) EndedAt: 2025-02-04 02:55:38 -0000 (Tue, 04 Feb 2025) EllapsedTime: 16.0 seconds RetCode: 0 Status: OK PackageFile: semisup_1.30.0.tar.gz PackageFileSize: 293.2 KiB