Package: seq.hotSPOT
Version: 1.6.0
Command: /Library/Frameworks/R.framework/Resources/bin/R CMD build --keep-empty-dirs --no-resave-data seq.hotSPOT
StartedAt: 2025-02-18 07:57:47 -0500 (Tue, 18 Feb 2025)
EndedAt: 2025-02-18 07:57:59 -0500 (Tue, 18 Feb 2025)
EllapsedTime: 11.3 seconds
RetCode: 0
Status: OK
PackageFile: seq.hotSPOT_1.6.0.tar.gz
PackageFileSize: 1.401 <A href="http://en.wikipedia.org/wiki/MiB" target="_blank">MiB</A>