Package: seq.hotSPOT Version: 1.6.0 Command: /Library/Frameworks/R.framework/Resources/bin/R CMD INSTALL seq.hotSPOT StartedAt: 2025-02-03 15:20:57 -0500 (Mon, 03 Feb 2025) EndedAt: 2025-02-03 15:21:01 -0500 (Mon, 03 Feb 2025) EllapsedTime: 3.5 seconds RetCode: 0 Status: OK