Package: seq.hotSPOT Version: 1.6.0 Command: /home/biocbuild/bbs-3.20-bioc/R/bin/R CMD INSTALL seq.hotSPOT StartedAt: 2025-02-03 15:17:13 -0500 (Mon, 03 Feb 2025) EndedAt: 2025-02-03 15:17:31 -0500 (Mon, 03 Feb 2025) EllapsedTime: 18.0 seconds RetCode: 0 Status: OK