Package: seq.hotSPOT
Version: 1.5.0
Command: rm -rf seq.hotSPOT.buildbin-libdir && mkdir seq.hotSPOT.buildbin-libdir && C:\Users\biocbuild\bbs-3.20-bioc\R\bin\R.exe CMD INSTALL --build --library=seq.hotSPOT.buildbin-libdir seq.hotSPOT_1.5.0.tar.gz
StartedAt: 2024-07-16 06:44:34 -0400 (Tue, 16 Jul 2024)
EndedAt: 2024-07-16 06:44:39 -0400 (Tue, 16 Jul 2024)
EllapsedTime: 4.8 seconds
RetCode: 0
Status: OK
PackageFile: seq.hotSPOT_1.5.0.zip
PackageFileSize: 279.5 <A href="http://en.wikipedia.org/wiki/KiB" target="_blank">KiB</A>