Package: seq.hotSPOT Version: 1.6.0 Command: rm -rf seq.hotSPOT.buildbin-libdir && mkdir seq.hotSPOT.buildbin-libdir && F:\biocbuild\bbs-3.20-bioc\R\bin\R.exe CMD INSTALL --build --library=seq.hotSPOT.buildbin-libdir seq.hotSPOT_1.6.0.tar.gz StartedAt: 2025-02-04 09:29:34 -0500 (Tue, 04 Feb 2025) EndedAt: 2025-02-04 09:29:45 -0500 (Tue, 04 Feb 2025) EllapsedTime: 10.2 seconds RetCode: 0 Status: OK PackageFile: seq.hotSPOT_1.6.0.zip PackageFileSize: 279.4 KiB