Package: seq.hotSPOT Version: 1.6.0 Command: chmod a+r seq.hotSPOT -R && F:\biocbuild\bbs-3.20-bioc\R\bin\R.exe CMD build --keep-empty-dirs --no-resave-data seq.hotSPOT StartedAt: 2025-02-03 22:05:17 -0500 (Mon, 03 Feb 2025) EndedAt: 2025-02-03 22:05:32 -0500 (Mon, 03 Feb 2025) EllapsedTime: 15.5 seconds RetCode: 0 Status: OK PackageFile: seq.hotSPOT_1.6.0.tar.gz PackageFileSize: 1.401 MiB