Package: seq.hotSPOT Version: 1.6.0 Command: F:\biocbuild\bbs-3.20-bioc\R\bin\R.exe CMD INSTALL seq.hotSPOT StartedAt: 2025-02-03 15:40:20 -0500 (Mon, 03 Feb 2025) EndedAt: 2025-02-03 15:40:42 -0500 (Mon, 03 Feb 2025) EllapsedTime: 22.3 seconds RetCode: 0 Status: OK