Package: seq.hotSPOT
Version: 1.6.0
Command: /home/biocbuild/bbs-3.20-bioc/R/bin/R CMD check --install=check:seq.hotSPOT.install-out.txt --library=/home/biocbuild/bbs-3.20-bioc/R/site-library --timings seq.hotSPOT_1.6.0.tar.gz
StartedAt: 2024-11-20 09:34:13 -0500 (Wed, 20 Nov 2024)
EndedAt: 2024-11-20 09:34:45 -0500 (Wed, 20 Nov 2024)
EllapsedTime: 32.1 seconds
RetCode: 0
Status: OK
CheckDir: seq.hotSPOT.Rcheck
Warnings: 0