Package: seq2pathway Version: 1.38.0 Command: /Library/Frameworks/R.framework/Resources/bin/R CMD check --install=check:seq2pathway.install-out.txt --library=/Library/Frameworks/R.framework/Resources/library --no-vignettes --timings seq2pathway_1.38.0.tar.gz StartedAt: 2025-02-04 09:59:49 -0500 (Tue, 04 Feb 2025) EndedAt: 2025-02-04 10:07:54 -0500 (Tue, 04 Feb 2025) EllapsedTime: 484.2 seconds RetCode: 0 Status: WARNINGS CheckDir: seq2pathway.Rcheck Warnings: 2