Package: seq2pathway Version: 1.38.0 Command: /home/biocbuild/R/R/bin/R CMD INSTALL seq2pathway StartedAt: 2025-02-03 21:04:24 -0000 (Mon, 03 Feb 2025) EndedAt: 2025-02-03 21:04:52 -0000 (Mon, 03 Feb 2025) EllapsedTime: 27.6 seconds RetCode: 0 Status: OK