Package: seqArchR Version: 1.10.0 Command: rm -rf seqArchR.buildbin-libdir && mkdir seqArchR.buildbin-libdir && /Users/biocbuild/BBS/utils/build-universal.sh seqArchR_1.10.0.tar.gz /Library/Frameworks/R.framework/Resources/bin/R seqArchR.buildbin-libdir StartedAt: 2025-02-05 17:47:28 -0500 (Wed, 05 Feb 2025) EndedAt: 2025-02-05 17:47:49 -0500 (Wed, 05 Feb 2025) EllapsedTime: 21.0 seconds RetCode: 0 Status: OK PackageFile: seqArchR_1.10.0.tgz PackageFileSize: 2.32 MiB