Package: seqArchR Version: 1.10.0 Command: /Library/Frameworks/R.framework/Resources/bin/R CMD INSTALL seqArchR StartedAt: 2025-02-03 15:43:22 -0500 (Mon, 03 Feb 2025) EndedAt: 2025-02-03 15:43:32 -0500 (Mon, 03 Feb 2025) EllapsedTime: 10.0 seconds RetCode: 0 Status: OK