Package: seqArchR Version: 1.10.0 Command: /Library/Frameworks/R.framework/Resources/bin/R CMD INSTALL seqArchR StartedAt: 2025-02-17 15:23:57 -0500 (Mon, 17 Feb 2025) EndedAt: 2025-02-17 15:24:34 -0500 (Mon, 17 Feb 2025) EllapsedTime: 36.6 seconds RetCode: 0 Status: OK