Package: seqArchR
Version: 1.9.0
Command: chmod a+r seqArchR -R && C:\Users\biocbuild\bbs-3.20-bioc\R\bin\R.exe CMD build --keep-empty-dirs --no-resave-data seqArchR
StartedAt: 2024-07-15 20:48:06 -0400 (Mon, 15 Jul 2024)
EndedAt: 2024-07-15 20:49:05 -0400 (Mon, 15 Jul 2024)
EllapsedTime: 58.8 seconds
RetCode: 0
Status: OK
PackageFile: seqArchR_1.9.0.tar.gz
PackageFileSize: 3.928 <A href="http://en.wikipedia.org/wiki/MiB" target="_blank">MiB</A>