Package: seqArchR Version: 1.10.0 Command: rm -rf seqArchR.buildbin-libdir && mkdir seqArchR.buildbin-libdir && F:\biocbuild\bbs-3.20-bioc\R\bin\R.exe CMD INSTALL --build --library=seqArchR.buildbin-libdir seqArchR_1.10.0.tar.gz StartedAt: 2025-02-04 09:29:45 -0500 (Tue, 04 Feb 2025) EndedAt: 2025-02-04 09:30:24 -0500 (Tue, 04 Feb 2025) EllapsedTime: 39.3 seconds RetCode: 0 Status: OK PackageFile: seqArchR_1.10.0.zip PackageFileSize: 1.48 MiB