Package: seqArchRplus Version: 1.6.0 Command: /Library/Frameworks/R.framework/Resources/bin/R CMD build --keep-empty-dirs --no-resave-data seqArchRplus StartedAt: 2025-02-04 08:03:10 -0500 (Tue, 04 Feb 2025) EndedAt: 2025-02-04 08:06:20 -0500 (Tue, 04 Feb 2025) EllapsedTime: 190.0 seconds RetCode: 0 Status: OK PackageFile: seqArchRplus_1.6.0.tar.gz PackageFileSize: 3.688 MiB