Package: seqArchRplus
Version: 1.6.0
Command: /Library/Frameworks/R.framework/Resources/bin/R CMD INSTALL seqArchRplus
StartedAt: 2025-02-17 18:19:45 -0500 (Mon, 17 Feb 2025)
EndedAt: 2025-02-17 18:20:12 -0500 (Mon, 17 Feb 2025)
EllapsedTime: 26.7 seconds
RetCode: 0
Status: OK