Package: seqArchRplus Version: 1.6.0 Command: /home/biocbuild/bbs-3.20-bioc/R/bin/R CMD check --install=check:seqArchRplus.install-out.txt --library=/home/biocbuild/bbs-3.20-bioc/R/site-library --timings seqArchRplus_1.6.0.tar.gz StartedAt: 2025-02-04 02:25:22 -0500 (Tue, 04 Feb 2025) EndedAt: 2025-02-04 02:31:49 -0500 (Tue, 04 Feb 2025) EllapsedTime: 386.5 seconds RetCode: 0 Status: WARNINGS CheckDir: seqArchRplus.Rcheck Warnings: 1