Package: seqArchRplus Version: 1.6.0 Command: /home/biocbuild/bbs-3.20-bioc/R/bin/R CMD INSTALL seqArchRplus StartedAt: 2025-02-03 16:08:31 -0500 (Mon, 03 Feb 2025) EndedAt: 2025-02-03 16:08:58 -0500 (Mon, 03 Feb 2025) EllapsedTime: 26.7 seconds RetCode: 0 Status: OK