Package: seqArchRplus Version: 1.6.0 Command: /home/biocbuild/R/R/bin/R CMD INSTALL seqArchRplus StartedAt: 2025-02-03 21:22:34 -0000 (Mon, 03 Feb 2025) EndedAt: 2025-02-03 21:23:03 -0000 (Mon, 03 Feb 2025) EllapsedTime: 29.1 seconds RetCode: 0 Status: OK