Package: seqCAT Version: 1.28.0 Command: /Library/Frameworks/R.framework/Resources/bin/R CMD build --keep-empty-dirs --no-resave-data seqCAT StartedAt: 2025-02-03 22:16:16 -0500 (Mon, 03 Feb 2025) EndedAt: 2025-02-03 22:19:39 -0500 (Mon, 03 Feb 2025) EllapsedTime: 203.2 seconds RetCode: 0 Status: OK PackageFile: seqCAT_1.28.0.tar.gz PackageFileSize: 1.895 MiB