Package: seqCAT Version: 1.28.0 Command: chmod a+r seqCAT -R && F:\biocbuild\bbs-3.20-bioc\R\bin\R.exe CMD build --keep-empty-dirs --no-resave-data seqCAT StartedAt: 2025-02-03 22:05:55 -0500 (Mon, 03 Feb 2025) EndedAt: 2025-02-03 22:07:53 -0500 (Mon, 03 Feb 2025) EllapsedTime: 118.0 seconds RetCode: 0 Status: OK PackageFile: seqCAT_1.28.0.tar.gz PackageFileSize: 1.808 MiB