Package: seqLogo Version: 1.72.0 Command: /Library/Frameworks/R.framework/Resources/bin/R CMD check --install=check:seqLogo.install-out.txt --library=/Library/Frameworks/R.framework/Resources/library --no-vignettes --timings seqLogo_1.72.0.tar.gz StartedAt: 2025-02-05 09:59:53 -0500 (Wed, 05 Feb 2025) EndedAt: 2025-02-05 10:00:24 -0500 (Wed, 05 Feb 2025) EllapsedTime: 31.2 seconds RetCode: 0 Status: OK CheckDir: seqLogo.Rcheck Warnings: 0