Package: seqLogo Version: 1.72.0 Command: /Library/Frameworks/R.framework/Resources/bin/R CMD INSTALL seqLogo StartedAt: 2025-02-03 15:14:23 -0500 (Mon, 03 Feb 2025) EndedAt: 2025-02-03 15:14:28 -0500 (Mon, 03 Feb 2025) EllapsedTime: 5.2 seconds RetCode: 0 Status: OK