Package: seqLogo Version: 1.72.0 Command: F:\biocbuild\bbs-3.20-bioc\R\bin\R.exe CMD INSTALL seqLogo StartedAt: 2025-02-03 15:34:22 -0500 (Mon, 03 Feb 2025) EndedAt: 2025-02-03 15:34:36 -0500 (Mon, 03 Feb 2025) EllapsedTime: 14.3 seconds RetCode: 0 Status: OK