Package: seqLogo Version: 1.72.0 Command: /home/biocbuild/R/R/bin/R CMD build --keep-empty-dirs --no-resave-data seqLogo StartedAt: 2025-02-04 02:56:48 -0000 (Tue, 04 Feb 2025) EndedAt: 2025-02-04 02:57:02 -0000 (Tue, 04 Feb 2025) EllapsedTime: 14.0 seconds RetCode: 0 Status: OK PackageFile: seqLogo_1.72.0.tar.gz PackageFileSize: 868.1 KiB