Package: seqTools Version: 1.40.0 Command: /Library/Frameworks/R.framework/Resources/bin/R CMD INSTALL seqTools StartedAt: 2025-02-03 15:12:26 -0500 (Mon, 03 Feb 2025) EndedAt: 2025-02-03 15:12:44 -0500 (Mon, 03 Feb 2025) EllapsedTime: 17.3 seconds RetCode: 0 Status: OK