Package: seqTools
Version: 1.39.0
Command: rm -rf seqTools.buildbin-libdir && mkdir seqTools.buildbin-libdir && C:\Users\biocbuild\bbs-3.20-bioc\R\bin\R.exe CMD INSTALL --build --library=seqTools.buildbin-libdir seqTools_1.39.0.tar.gz
StartedAt: 2024-07-16 06:45:05 -0400 (Tue, 16 Jul 2024)
EndedAt: 2024-07-16 06:45:23 -0400 (Tue, 16 Jul 2024)
EllapsedTime: 17.8 seconds
RetCode: 0
Status: OK
PackageFile: seqTools_1.39.0.zip
PackageFileSize: 654.5 <A href="http://en.wikipedia.org/wiki/KiB" target="_blank">KiB</A>