Package: seqTools Version: 1.40.0 Command: rm -rf seqTools.buildbin-libdir && mkdir seqTools.buildbin-libdir && F:\biocbuild\bbs-3.20-bioc\R\bin\R.exe CMD INSTALL --build --library=seqTools.buildbin-libdir seqTools_1.40.0.tar.gz StartedAt: 2025-02-04 09:30:17 -0500 (Tue, 04 Feb 2025) EndedAt: 2025-02-04 09:31:34 -0500 (Tue, 04 Feb 2025) EllapsedTime: 77.8 seconds RetCode: 0 Status: OK PackageFile: seqTools_1.40.0.zip PackageFileSize: 653.5 KiB