Package: seqTools Version: 1.40.0 Command: chmod a+r seqTools -R && F:\biocbuild\bbs-3.20-bioc\R\bin\R.exe CMD build --keep-empty-dirs --no-resave-data seqTools StartedAt: 2025-02-03 22:06:57 -0500 (Mon, 03 Feb 2025) EndedAt: 2025-02-03 22:08:11 -0500 (Mon, 03 Feb 2025) EllapsedTime: 73.5 seconds RetCode: 0 Status: OK PackageFile: seqTools_1.40.0.tar.gz PackageFileSize: 366.2 KiB