Package: seqTools Version: 1.40.0 Command: F:\biocbuild\bbs-3.20-bioc\R\bin\R.exe CMD INSTALL seqTools StartedAt: 2025-02-03 15:31:39 -0500 (Mon, 03 Feb 2025) EndedAt: 2025-02-03 15:32:32 -0500 (Mon, 03 Feb 2025) EllapsedTime: 53.1 seconds RetCode: 0 Status: OK