Package: seqTools Version: 1.40.0 Command: /home/biocbuild/R/R/bin/R CMD check --install=check:seqTools.install-out.txt --library=/home/biocbuild/R/R/site-library --no-vignettes --timings seqTools_1.40.0.tar.gz StartedAt: 2025-02-04 11:01:23 -0000 (Tue, 04 Feb 2025) EndedAt: 2025-02-04 11:01:46 -0000 (Tue, 04 Feb 2025) EllapsedTime: 23.0 seconds RetCode: 0 Status: WARNINGS CheckDir: seqTools.Rcheck Warnings: 4