Package: seqTools Version: 1.40.0 Command: /home/biocbuild/R/R/bin/R CMD INSTALL seqTools StartedAt: 2025-02-03 20:21:26 -0000 (Mon, 03 Feb 2025) EndedAt: 2025-02-03 20:21:44 -0000 (Mon, 03 Feb 2025) EllapsedTime: 18.1 seconds RetCode: 0 Status: OK