Package: seqcombo Version: 1.28.0 Command: rm -rf seqcombo.buildbin-libdir && mkdir seqcombo.buildbin-libdir && /Users/biocbuild/BBS/utils/build-universal.sh seqcombo_1.28.0.tar.gz /Library/Frameworks/R.framework/Resources/bin/R seqcombo.buildbin-libdir StartedAt: 2025-01-31 13:41:24 -0500 (Fri, 31 Jan 2025) EndedAt: 2025-01-31 13:41:35 -0500 (Fri, 31 Jan 2025) EllapsedTime: 11.7 seconds RetCode: 0 Status: OK PackageFile: seqcombo_1.28.0.tgz PackageFileSize: 877.6 KiB