Package: seqcombo Version: 1.28.0 Command: /Library/Frameworks/R.framework/Resources/bin/R CMD build --keep-empty-dirs --no-resave-data seqcombo StartedAt: 2025-02-03 22:16:41 -0500 (Mon, 03 Feb 2025) EndedAt: 2025-02-03 22:17:14 -0500 (Mon, 03 Feb 2025) EllapsedTime: 33.4 seconds RetCode: 0 Status: OK PackageFile: seqcombo_1.28.0.tar.gz PackageFileSize: 1.188 MiB