Package: seqcombo Version: 1.28.0 Command: /Library/Frameworks/R.framework/Resources/bin/R CMD check --install=check:seqcombo.install-out.txt --library=/Library/Frameworks/R.framework/Resources/library --no-vignettes --timings seqcombo_1.28.0.tar.gz StartedAt: 2025-02-04 10:02:06 -0500 (Tue, 04 Feb 2025) EndedAt: 2025-02-04 10:03:20 -0500 (Tue, 04 Feb 2025) EllapsedTime: 74.2 seconds RetCode: 0 Status: OK CheckDir: seqcombo.Rcheck Warnings: 0