Package: seqcombo Version: 1.28.0 Command: chmod a+r seqcombo -R && F:\biocbuild\bbs-3.20-bioc\R\bin\R.exe CMD build --keep-empty-dirs --no-resave-data seqcombo StartedAt: 2025-02-03 22:06:02 -0500 (Mon, 03 Feb 2025) EndedAt: 2025-02-03 22:06:26 -0500 (Mon, 03 Feb 2025) EllapsedTime: 24.9 seconds RetCode: 0 Status: OK PackageFile: seqcombo_1.28.0.tar.gz PackageFileSize: 686.2 KiB