Package: seqcombo Version: 1.28.0 Command: /home/biocbuild/R/R/bin/R CMD build --keep-empty-dirs --no-resave-data seqcombo StartedAt: 2025-02-04 02:56:09 -0000 (Tue, 04 Feb 2025) EndedAt: 2025-02-04 02:56:38 -0000 (Tue, 04 Feb 2025) EllapsedTime: 29.0 seconds RetCode: 0 Status: OK PackageFile: seqcombo_1.28.0.tar.gz PackageFileSize: 683.8 KiB