Package: seqcombo Version: 1.28.0 Command: /home/biocbuild/R/R/bin/R CMD INSTALL seqcombo StartedAt: 2025-02-03 20:48:34 -0000 (Mon, 03 Feb 2025) EndedAt: 2025-02-03 20:48:40 -0000 (Mon, 03 Feb 2025) EllapsedTime: 5.6 seconds RetCode: 0 Status: OK